BEGIN:VCALENDAR
VERSION:2.0
PRODID:-//Sophicity/Tribune/City of Eastman, GA
BEGIN:VEVENT
DTSTAMP:20260425T183700Z
UID:fb51dc5c-ec41-4cd1-83e0-5490ade5a52c-4019
DTSTART:20240819T220000Z
DTEND:20240819T230000Z
CLASS:PUBLIC
SUMMARY:Planning & Zoning Public Hearing
END:VEVENT
END:VCALENDAR
